BEGIN:VCALENDAR
VERSION:2.0
PRODID:-//Delegación de Familia y Vida - ECPv6.2.4//NONSGML v1.0//EN
CALSCALE:GREGORIAN
METHOD:PUBLISH
X-ORIGINAL-URL:https://www.delegaciondefamiliayvida.com
X-WR-CALDESC:Eventos para Delegación de Familia y Vida
REFRESH-INTERVAL;VALUE=DURATION:PT1H
X-Robots-Tag:noindex
X-PUBLISHED-TTL:PT1H
BEGIN:VTIMEZONE
TZID:Europe/Madrid
BEGIN:DAYLIGHT
TZOFFSETFROM:+0100
TZOFFSETTO:+0200
TZNAME:CEST
DTSTART:20260329T010000
END:DAYLIGHT
BEGIN:STANDARD
TZOFFSETFROM:+0200
TZOFFSETTO:+0100
TZNAME:CET
DTSTART:20261025T010000
END:STANDARD
END:VTIMEZONE
BEGIN:VEVENT
DTSTART;TZID=Europe/Madrid:20260124T103000
DTEND;TZID=Europe/Madrid:20260124T180000
DTSTAMP:20260420T121622
CREATED:20260121T123221Z
LAST-MODIFIED:20260121T123604Z
UID:11792-1769250600-1769277600@www.delegaciondefamiliayvida.com
SUMMARY:Jornada de Oración
DESCRIPTION:¡Queridos esposos y novios! \nCon mucha ilusión os convocamos a la jornada anual de Proyecto que\, este año\, será LA JORNADA DE LA ORACIÓN \n👥 Quiénes?: la jornada está destinada a los esposos y novios de la diócesis\, estén o no en grupos de catequesis. También está invitado cualquier matrimonio aunque no haya hecho el retiro. \n📅 Cuándo?: será el 24 de enero \n🤔 ¿Qué haremos?: será una jornada en la que profundizaremos en la importancia de la oración en nuestra vocación de esposos\, el misterio del Amor y los frutos de este camino en nuestra familia. \n⚽ Niños: Habrá guarderia.\n⚠️ Antes de inscribiros en la jornada los tendréis que dar de alta en la app. \n🗝 Inscripción
URL:https://www.delegaciondefamiliayvida.com/evento/jornada-de-oracion
LOCATION:Parroquia San Juan de la Cruz\, Calle Reino Unido\, 12\, Toledo\, Toledo\, 45005\, España
CATEGORIES:Bodas de Plata
ATTACH;FMTTYPE=image/jpeg:https://www.delegaciondefamiliayvida.com/wp-content/uploads/2026/01/Diseno-sin-titulo-1.jpg
END:VEVENT
END:VCALENDAR